BEGIN:VCALENDAR
VERSION:2.0
PRODID:-//Library Market//iCal Export//EN
BEGIN:VEVENT
SUMMARY:Roadmap to College
UID:53375
DTSTAMP:20260423T031300Z
DTSTART:20260831T220000Z
DTEND:20260831T231500Z
LOCATION:Syosset Public Library, 225 South Oyster Bay Rd, Syosset, NY 1179
 1, United States
ROOM: Theater
DESCRIPTION: A lot has changed in college admissions! If you’re a paren
 t/caregiver of a student in grades 6-12, you might feel overwhelmed by the
  news around testing, extracurriculars, and academics. In this workshop, D
 r. P introduces students and parents on what to do during each of the four
  years of high school to be set up for success during the college applicat
 ion process. Families are encouraged to come together and bring a notebook
 !Students will earn 1 hour of community service.Registration for students 
 and parents begins August 17. 
URL:https://syosset.librarycalendar.com/event/roadmap-college-53375
END:VEVENT
END:VCALENDAR
