BEGIN:VCALENDAR
VERSION:2.0
PRODID:-//Library Market//iCal Export//EN
BEGIN:VEVENT
SUMMARY:Block Party!
UID:53374
DTSTAMP:20260422T090200Z
DTSTART:20260701T183000Z
DTEND:20260701T191500Z
LOCATION:Syosset Public Library, 225 South Oyster Bay Rd, Syosset, NY 1179
 1, United States
ROOM: Meeting Room B/C
DESCRIPTION: Help children build fun things with different types of block
 s!1 hour of community service.Registration for SSD residents begins June 1
 7, all others one week later if available.DisclaimerAll children under 12 
 must have a parent/guardian in the building at all times. If you arrive m
 ore than 10 minutes past the stated start time of the program, your spot m
 ay be given to someone on the waiting list. 
URL:https://syosset.librarycalendar.com/event/block-party-53374
END:VEVENT
END:VCALENDAR
