BEGIN:VCALENDAR
VERSION:2.0
PRODID:-//Library Market//iCal Export//EN
BEGIN:VEVENT
SUMMARY:Teen Chess Workshop
UID:53371
DTSTAMP:20260421T165900Z
DTSTART:20260725T163000Z
DTEND:20260725T173000Z
LOCATION:Syosset Public Library, 225 South Oyster Bay Rd, Syosset, NY 1179
 1, United States
ROOM: Meeting Room B/C
DESCRIPTION: Learn the rules of chess and develop your skills as you play
  against other teens. When you register, please make sure you can come to
  all dates.Registration for SSD residents begins June 26, all others one w
 eek later if available.DisclaimerAll children under 12 must have a parent/
 guardian in the building at all times.If you arrive more than 10 minutes p
 ast the stated start time of the program, your spot may be given to someon
 e on the waiting list. 
URL:https://syosset.librarycalendar.com/event/teen-chess-workshop-53371
END:VEVENT
END:VCALENDAR
