BEGIN:VCALENDAR
VERSION:2.0
PRODID:-//Library Market//iCal Export//EN
BEGIN:VEVENT
SUMMARY:Fried Ice Cream
UID:53295
DTSTAMP:20260421T110900Z
DTSTART:20260824T200000Z
DTEND:20260824T210000Z
LOCATION:Syosset Public Library, 225 South Oyster Bay Rd, Syosset, NY 1179
 1, United States
ROOM: Meeting Room B/C
DESCRIPTION: Watch a demonstration of how to make fried ice cream and the
 n make your own. Teens will not be using a fryer but will be using many to
 ppings to make their ice cream delicious!Registration for SSD residents be
 gins August 10, all others one week later if available.DisclaimerAll child
 ren under 12 must have a parent/guardian in the building at all times.If y
 ou arrive more than 10 minutes past the stated start time of the program, 
 your spot may be given to someone on the waiting list. 
URL:https://syosset.librarycalendar.com/event/fried-ice-cream-53295
END:VEVENT
END:VCALENDAR
