BEGIN:VCALENDAR
VERSION:2.0
PRODID:-//Library Market//iCal Export//EN
BEGIN:VEVENT
SUMMARY:Donut Wars
UID:53294
DTSTAMP:20260422T090200Z
DTSTART:20260608T230000Z
DTEND:20260609T000000Z
LOCATION:Syosset Public Library, 225 South Oyster Bay Rd, Syosset, NY 1179
 1, United States
ROOM: Story Room
DESCRIPTION: Take part in a fun donut wars competition! Decorate deliciou
 s donuts &amp; try to win the grand prize!Registration for SSD residents b
 egins May 26, all others one week later if available.DisclaimerAll childre
 n under 12 must have a parent/guardian in the building at all times.If you
  arrive more than 10 minutes past the stated start time of the program, yo
 ur spot may be given to someone on the waiting list. 
URL:https://syosset.librarycalendar.com/event/donut-wars-53294
END:VEVENT
END:VCALENDAR
