BEGIN:VCALENDAR
VERSION:2.0
PRODID:-//Library Market//iCal Export//EN
BEGIN:VEVENT
SUMMARY:Pet Treat Jars
UID:53293
DTSTAMP:20260421T110900Z
DTSTART:20260810T190000Z
DTEND:20260810T200000Z
LOCATION:Syosset Public Library, 225 South Oyster Bay Rd, Syosset, NY 1179
 1, United States
ROOM: Story Room
DESCRIPTION: Create an adorable treat jar for YOUR pet, using pet-themed 
 washi tape and other fun materials. Choose from cats or dogs during the pr
 ogram.Registration for SSD residents begins July 27, all others one week l
 ater if available.DisclaimerAll children under 12 must have a parent/guard
 ian in the building at all times.If you arrive more than 10 minutes past t
 he stated start time of the program, your spot may be given to someone on 
 the waiting list. 
URL:https://syosset.librarycalendar.com/event/pet-treat-jars-53293
END:VEVENT
END:VCALENDAR
