BEGIN:VCALENDAR
VERSION:2.0
PRODID:-//Library Market//iCal Export//EN
BEGIN:VEVENT
SUMMARY:Felted Fossils
UID:53292
DTSTAMP:20260422T101800Z
DTSTART:20260727T203000Z
DTEND:20260727T220000Z
LOCATION:Syosset Public Library, 225 South Oyster Bay Rd, Syosset, NY 1179
 1, United States
ROOM: Meeting Room B/C
DESCRIPTION: Check out real whale bones from The Whaling Museum’s colle
 ction and uncover how the titans of the deep began as wolf-size mammals wi
 th hooves! Use needle-felting techniques to “fossilize” a custom ancie
 nt whale design onto a canvas zip pouch, blending paleontology and art.Reg
 istration for SSD residents begins July 13, all others one week later if a
 vailable.DisclaimerAll children under 12 must have a parent/guardian in th
 e building at all times.If you arrive more than 10 minutes past the stated
  start time of the program, your spot may be given to someone on the waiti
 ng list. 
URL:https://syosset.librarycalendar.com/event/felted-fossils-53292
END:VEVENT
END:VCALENDAR
