BEGIN:VCALENDAR
VERSION:2.0
PRODID:-//Library Market//iCal Export//EN
BEGIN:VEVENT
SUMMARY:Virtual Digital SAT Practice Exam
UID:53288
DTSTAMP:20260420T013200Z
DTSTART:20260613T130000Z
DTEND:20260613T160000Z
LOCATION:
DESCRIPTION: Take a full-length proctored practice test under timed condi
 tions during this online class. Essential to being ready for the official 
 test, a proctored practice exam will help build testing endurance and prov
 ide a real-time snapshot of testing performance.Step 1: Register here by c
 licking the link above.            Step 2: Schedule a free 30-minut
 e score report review with a Revolution Prep testing expert to help you in
 terpret the results and develop a customized plan to prepare. Please sched
 ule this appointment for the few days after the exam. You can pre-schedule
  this Score Report Review here: Score ReportStep 3: Your scores will be a
 vailable immediately upon completing the test!Registration is ongoing for 
 high school students.
URL:https://syosset.librarycalendar.com/event/virtual-digital-sat-practice
 -exam-53288
END:VEVENT
END:VCALENDAR
