BEGIN:VCALENDAR
VERSION:2.0
PRODID:-//Library Market//iCal Export//EN
BEGIN:VEVENT
SUMMARY:In Be Tween Club
UID:53283
DTSTAMP:20260419T141400Z
DTSTART:20260709T190000Z
DTEND:20260709T194500Z
LOCATION:Syosset Public Library, 225 South Oyster Bay Rd, Syosset, NY 1179
 1, United States
ROOM: Story Room
DESCRIPTION: For Tweens in grades 5 &amp; 6 in September only.Join Miss A
 my and Jody for fun activities each month.Registration for SSD residents b
 egins June 25, all others one week later if available.DisclaimerAll childr
 en under 12 must have a parent/guardian in the building at all times.If yo
 u arrive more than 10 minutes past the stated start time of the program, y
 our spot may be given to someone on the waiting list. 
URL:https://syosset.librarycalendar.com/event/be-tween-club-53283
END:VEVENT
END:VCALENDAR
