BEGIN:VCALENDAR
VERSION:2.0
PRODID:-//Library Market//iCal Export//EN
BEGIN:VEVENT
SUMMARY:In Be Tween Club
UID:53282
DTSTAMP:20260419T190800Z
DTSTART:20260611T200000Z
DTEND:20260611T204500Z
LOCATION:Syosset Public Library, 225 South Oyster Bay Rd, Syosset, NY 1179
 1, United States
ROOM: Story Room
DESCRIPTION: For Tweens in grades 5 &amp; 6, currently only.Join Miss Amy
  and Jody for fun activities each month.Registration for SSD residents beg
 ins May 28, all others one week later if available.DisclaimerAll children 
 under 12 must have a parent/guardian in the building at all times.If you a
 rrive more than 10 minutes past the stated start time of the program, your
  spot may be given to someone on the waiting list. 
URL:https://syosset.librarycalendar.com/event/be-tween-club-53282
END:VEVENT
END:VCALENDAR
