BEGIN:VCALENDAR
VERSION:2.0
PRODID:-//Library Market//iCal Export//EN
BEGIN:VEVENT
SUMMARY:ZTag Laser Tag
UID:53373
DTSTAMP:20260422T090200Z
DTSTART:20260803T230000Z
DTEND:20260804T000000Z
LOCATION:Syosset Public Library, 225 South Oyster Bay Rd, Syosset, NY 1179
 1, United States
ROOM: Meeting Room B/C
DESCRIPTION: Play laser tag with a watch-based laser tag device. Registr
 ation for SSD residents begins July 20, all others one week later if avail
 able.Please download and fill out the waiver (available under attachments)
 .If you are unable to print out the waiver, please fill out and email it t
 o splteens@syossetlibrary.orgDisclaimerAll children under 12 must have a p
 arent/guardian in the building at all times.If you arrive more than 10 min
 utes past the stated start time of the program, your spot may be given to 
 someone on the waiting list. 
URL:https://syosset.librarycalendar.com/index.php/event/ztag-laser-tag-533
 73
END:VEVENT
END:VCALENDAR
