BEGIN:VCALENDAR
VERSION:2.0
PRODID:-//Library Market//iCal Export//EN
BEGIN:VEVENT
SUMMARY:Crustless Apple Pie Kits
UID:53296
DTSTAMP:20260421T000300Z
DTSTART:20260715T190000Z
DTEND:20260715T190000Z
LOCATION:Syosset Public Library, 225 South Oyster Bay Rd, Syosset, NY 1179
 1, United States
ROOM: TeenSpace
DESCRIPTION: Pick up in TeenSpace begins at 3:00 p.m.Pick up a kit to mak
 e a delicious pie and celebrate America 250!Bring your library card. No r
 egistration required, SSD residents in grades 6-12 only, while supplies la
 st.
URL:https://syosset.librarycalendar.com/index.php/event/crustless-apple-pi
 e-kits-53296
END:VEVENT
END:VCALENDAR
