BEGIN:VCALENDAR
VERSION:2.0
PRODID:-//Library Market//iCal Export//EN
BEGIN:VEVENT
SUMMARY:Make Your Own Book Holder &amp; Shelf
UID:53291
DTSTAMP:20260422T101800Z
DTSTART:20260713T220000Z
DTEND:20260713T230000Z
LOCATION:Syosset Public Library, 225 South Oyster Bay Rd, Syosset, NY 1179
 1, United States
ROOM: Meeting Room B/C
DESCRIPTION: Build a book holder &amp; shelf to organize your favorite re
 ads. It’s perfect for all your summer reading!Registration for SSD resid
 ents begins June 29, all others one week later if available.DisclaimerAll 
 children under 12 must have a parent/guardian in the building at all times
 .If you arrive more than 10 minutes past the stated start time of the prog
 ram, your spot may be given to someone on the waiting list. 
URL:https://syosset.librarycalendar.com/index.php/event/make-your-own-book
 -holder-shelf-53291
END:VEVENT
END:VCALENDAR
